BEGIN:VCALENDAR
VERSION:2.0
PRODID:-//ExpressionEngine Easy iCalendar plugin//NONSGML v1.1.1//EN
BEGIN:VEVENT
UID:event
LOCATION:The Heyman Center\, Second Floor Common Room
DTSTAMP:20210221T33600Z
DTSTART;TZID=America/New_York:20160610T90000
DTEND;TZID=America/New_York:20160611T000000
SUMMARY:Science & Capitalism: Entangled Histories - Workshop for the
  2018 Volume of Osiris
DESCRIPTION:The histories of science and capitalism have always been bou
 nd up together. As far back as the 17th century\, if not befo
 re\, precise and detailed empirical knowledge has been valued
  by those seeking commercial gain. It is therefore no surpri
 se that modern scholars have taken a keen interest in tracin
 g the connections between the production of natural knowledg
 e and development of commercial networks\, between matters of
  fact and matters of exchange.
END:VEVENT
END:VCALENDAR