BEGIN:VCALENDAR
VERSION:2.0
PRODID:-//ExpressionEngine Easy iCalendar plugin//NONSGML v1.1.1//EN
BEGIN:VEVENT
UID:event
LOCATION:Keynote Panel: Davis Auditorium\, the Schapiro Center\; All ot
 her Panels: 2nd Fl Common Room\, the Heyman Center
DTSTAMP:20210221T33600Z
DTSTART;TZID=America/New_York:20160415T90000
DTEND;TZID=America/New_York:20160416T000000
SUMMARY:Ice Cubed: An Inquiry into the Aesthetics\, History\, and Scie
 nce of Ice
DESCRIPTION:This interdisciplinary conference brings together scientists
 \, humanists\, and artists to generate a productive conversati
 on around the potentialities and properties of ice.  For a 
 full schedule\, list of speakers\, and other details visit: h
 ttp://societyoffellows.columbia.edu/events/ice-cubed/
END:VEVENT
END:VCALENDAR