BEGIN:VCALENDAR
VERSION:2.0
PRODID:-//ExpressionEngine Easy iCalendar plugin//NONSGML v1.1.1//EN
BEGIN:VEVENT
UID:event
LOCATION:The Heyman Center\, Second Floor Common Room
DTSTAMP:20210221T32800Z
DTSTART;TZID=America/New_York:20160428T90000
DTEND;TZID=America/New_York:20160429T000000
SUMMARY:Insuetude: Conversations in Technological Discard and Archae
 ological Recuperation
DESCRIPTION:This conference brings together theorists of media technolog
 ies with researchers trained in the traditional methods of a
 rchaeology. It is the goal of this conference to explore wha
 t the discipline of archaeology - the field that studies how
  objects mediate our relationship to the past - might offer 
 a media archaeology.  Equally\, the conference seeks to sti
 mulate new ways of thinking about the archaeological past 
 and novel methods for doing so through the engagement of ar
 chaeologists with media theorists.\n\nMore details and confer
 ence schedule available here: http://societyoffellows.columb
 ia.edu/events/insuetude.
END:VEVENT
END:VCALENDAR