BEGIN:VCALENDAR
VERSION:2.0
PRODID:-//ExpressionEngine Easy iCalendar plugin//NONSGML v1.1.1//EN
BEGIN:VEVENT
UID:event
LOCATION:The Heyman Center\, Second Floor Common Room
DTSTAMP:20210221T33100Z
DTSTART;TZID=America/New_York:20160226T100000
DTEND;TZID=America/New_York:
SUMMARY:Preserving Indigenous Knowledge and The Library for Food Sov
 ereignty
DESCRIPTION:This talk discusses effective strategies for working cross-c
 ulturally with farmers and showcases agricultural innovation
 s from across the globe.\n\n \n\nRegistration required.\n\n 
END:VEVENT
END:VCALENDAR