BEGIN:VCALENDAR
VERSION:2.0
PRODID:-//ExpressionEngine Easy iCalendar plugin//NONSGML v1.1.1//EN
BEGIN:VEVENT
UID:event
LOCATION:The Heyman Center\, Second Floor Common Room
DTSTAMP:20210221T33300Z
DTSTART;TZID=America/New_York:20160401T93000
DTEND;TZID=America/New_York:
SUMMARY:1916: The Irish Rising at 100 Years
DESCRIPTION:Scholars from Ireland and New York discuss the 1916 Easter R
 ising on its centennial.
END:VEVENT
END:VCALENDAR