BEGIN:VCALENDAR
VERSION:2.0
PRODID:-//ExpressionEngine Easy iCalendar plugin//NONSGML v1.1.1//EN
BEGIN:VEVENT
UID:event
LOCATION:The Heyman Center\, Second Floor Common Room
DTSTAMP:20210221T33300Z
DTSTART;TZID=America/New_York:20160219T160000
DTEND;TZID=America/New_York:
SUMMARY:An Aesthetic of Indifference: Poems/Photos/Graphs
DESCRIPTION:Developing a problematic at work in figures like the poet St
 éphane Mallarmé and the photographer Robert Frank\, this ta
 lk seeks to extend some of the arguments about the political
  economy of form developed in Michaels’s recent book\, The 
 Beauty of a Social Problem.\n\nPhoto Credit: Arthur Ou
END:VEVENT
END:VCALENDAR