BEGIN:VCALENDAR
VERSION:2.0
PRODID:-//ExpressionEngine Easy iCalendar plugin//NONSGML v1.1.1//EN
BEGIN:VEVENT
UID:event
LOCATION:International Affairs Building\, 1512 IAB
DTSTAMP:20210221T33200Z
DTSTART;TZID=America/New_York:20160430T90000
DTEND;TZID=America/New_York:
SUMMARY:Philosophy in Cicero’s Letters
DESCRIPTION:The one-day symposium\, "Philosophy in Cicero's Letters" aims
  to present recent\, fast-developing scholarship on Cicero\, a
 ncient philosophy\, and intellectual history.
END:VEVENT
END:VCALENDAR