BEGIN:VCALENDAR
VERSION:2.0
PRODID:-//ExpressionEngine Easy iCalendar plugin//NONSGML v1.1.1//EN
BEGIN:VEVENT
UID:event
LOCATION:The Heyman Center\, Second Floor Common Room
DTSTAMP:20210221T33800Z
DTSTART;TZID=America/New_York:20160411T181500
DTEND;TZID=America/New_York:
SUMMARY:Neuroscience and History: The Mirror and the Mind
DESCRIPTION:This talk brings the study of material culture to an unlikel
 y object: the mind. Focusing on three episodes of mirror use
  in the medicine and science of the mind in the twentieth ce
 ntury\, Professor Guenther analyzes the ways in which this si
 mple piece of experimental equipment has been used to captur
 e the mind’s workings.
END:VEVENT
END:VCALENDAR