BEGIN:VCALENDAR
VERSION:2.0
PRODID:-//ExpressionEngine Easy iCalendar plugin//NONSGML v1.1.1//EN
BEGIN:VEVENT
UID:event
LOCATION:The Heyman Center\, Second Floor Common Room
DTSTAMP:20210221T33900Z
DTSTART;TZID=America/New_York:20160420T180000
DTEND;TZID=America/New_York:
SUMMARY:Austerity Measures
DESCRIPTION:A multi media performance and discussion of Greek crisis poe
 try to launch the anthology\, Austerity Measures (Penguin\, 20
 16). The poets and translators Phoebe Giannisi\, Jazra Khalee
 d\, Peter Constantine and Karen Van Dyck read works in Greek 
 and in English translation. Edwin Frank (NYRB) responds. The
  event is complemented by an exhibition of recent Greek fanz
 ines curated by Dimitris Antoniou and Karla Neilsen for the 
 Rare Book and Manuscript Library.
END:VEVENT
END:VCALENDAR