BEGIN:VCALENDAR
VERSION:2.0
PRODID:-//ExpressionEngine Easy iCalendar plugin//NONSGML v1.1.1//EN
BEGIN:VEVENT
UID:event
LOCATION:The Heyman Center\, Second Floor Common Room
DTSTAMP:20210221T33300Z
DTSTART;TZID=America/New_York:20160212T120000
DTEND;TZID=America/New_York:
SUMMARY:Esperantic Modernism: Joyce\, ‘Universal Language\,’ and P
 olitical Gesture
DESCRIPTION:The Spring 2016 meeting of the NYNJ Modernism Seminar--will 
 feature Nico Israel\, Hunter College.  Visit the event page 
 for instructions on requesting an invitation and the paper t
 o be presented.
END:VEVENT
END:VCALENDAR