BEGIN:VCALENDAR
VERSION:2.0
PRODID:-//ExpressionEngine Easy iCalendar plugin//NONSGML v1.1.1//EN
BEGIN:VEVENT
UID:event
LOCATION:The Heyman Center\, Second Floor Common Room
DTSTAMP:20210221T33500Z
DTSTART;TZID=America/New_York:20160303T180000
DTEND;TZID=America/New_York:
SUMMARY:Patriarchy Takes a Back Seat in Kurdish Syria: Implications 
 for Gender Theory\, the Middle East\, and the Midwest
DESCRIPTION:Turkish and American sociologists and anthropologists discus
 s "Patriarchy Takes a Back Seat in Kurdish Syria: Implicatio
 ns for Gender Theory\, the Middle East\, and the Midwest."
END:VEVENT
END:VCALENDAR