BEGIN:VCALENDAR
VERSION:2.0
PRODID:-//ExpressionEngine Easy iCalendar plugin//NONSGML v1.1.1//EN
BEGIN:VEVENT
UID:event
LOCATION:Schermerhorn Hall\, 754 Schermerhorn Extension
DTSTAMP:20210221T33900Z
DTSTART;TZID=America/New_York:20160322T160000
DTEND;TZID=America/New_York:
SUMMARY:Allochronism\, Space and Sexuality in India: Cities\, Sex Work
 ers\, and LGBTQ Subjects
DESCRIPTION:Over the past decade\, a sea change has occurred in discourse
 s of sexuality throughout the Global South. In this presenta
 tion\, Professor Shah reviews this set of changes in India\, b
 y focusing on sex worker\, transgender and queer spatial poli
 tics as they have been unfolding in Indian cities\, in media\,
  and in the law.
END:VEVENT
END:VCALENDAR