BEGIN:VCALENDAR
VERSION:2.0
PRODID:-//ExpressionEngine Easy iCalendar plugin//NONSGML v1.1.1//EN
BEGIN:VEVENT
UID:event
LOCATION:The Heyman Center\, Second Floor Common Room
DTSTAMP:20210221T32900Z
DTSTART;TZID=America/New_York:20160322T181500
DTEND;TZID=America/New_York:
SUMMARY:On Looking Closely at Things: A Conversation with Photograph
 er Andy Sewell
DESCRIPTION:PLEASE NOTE: NEW EVENT DATE!\n\nPhotographer Andy Sewell speak
 s on the topic of "Looking Closely at Things."
END:VEVENT
END:VCALENDAR