BEGIN:VCALENDAR
VERSION:2.0
PRODID:-//ExpressionEngine Easy iCalendar plugin//NONSGML v1.1.1//EN
BEGIN:VEVENT
UID:event
LOCATION:Low Memorial Library
DTSTAMP:20210221T33400Z
DTSTART;TZID=America/New_York:20160218T171500
DTEND;TZID=America/New_York:
SUMMARY:The Promise and Challenge of Precision Medicine: An Interdis
 ciplinary Conversation
DESCRIPTION:This event features speakers representing fields from scienc
 e\, medicine\, and the humanities.\n\nRegistration is required.
END:VEVENT
END:VCALENDAR