BEGIN:VCALENDAR
VERSION:2.0
PRODID:-//ExpressionEngine Easy iCalendar plugin//NONSGML v1.1.1//EN
BEGIN:VEVENT
UID:event
LOCATION:The Heyman Center\, Second Floor Common Room
DTSTAMP:20210221T33000Z
DTSTART;TZID=America/New_York:20160128T181500
DTEND;TZID=America/New_York:
SUMMARY:Foucault 13/13: The Birth of Biopolitics (1978–1979)
DESCRIPTION:The Foucault 13/13 Series examines all 13 of Foucaults' Coll
 ège de France lectures chronologically.  This installment 
 features Nancy Fraser\, Louise Loeb\, Kendall Thomas\, and Ric
 hard Brooks.\n\nRegistration required. \n\nNo registration nece
 ssary for livestream: http://web.law.columbia.edu/foucault13
 13/multimedia
END:VEVENT
END:VCALENDAR