BEGIN:VCALENDAR
VERSION:2.0
PRODID:-//ExpressionEngine Easy iCalendar plugin//NONSGML v1.1.1//EN
BEGIN:VEVENT
UID:event
LOCATION:\, East Gallery\, Maison Francaise (Buell Hall)
DTSTAMP:20210221T32700Z
DTSTART;TZID=America/New_York:20160211T181500
DTEND;TZID=America/New_York:
SUMMARY:Foucault 13/13: The Government of the Living (1979–1980)
DESCRIPTION:The Foucault 13/13 Series examines all 13 of Foucaults' Coll
 ège de France lectures chronologically.  This installment 
 features Jean Cohen\, Daniele Lorenzini\, and Achille Mbembe.\n
 \nRegistration required.\n\nNo registration necessary for lives
 tream: http://web.law.columbia.edu/foucault1313/multimedia
END:VEVENT
END:VCALENDAR