BEGIN:VCALENDAR
VERSION:2.0
PRODID:-//ExpressionEngine Easy iCalendar plugin//NONSGML v1.1.1//EN
BEGIN:VEVENT
UID:event
LOCATION:East Gallery\, Maison Francaise (Buell Hall)
DTSTAMP:20210221T33700Z
DTSTART;TZID=America/New_York:20160303T181500
DTEND;TZID=America/New_York:
SUMMARY:Foucault 13/13: Subjectivity and Truth\, and Wrong-Doing\, Tru
 th-Telling (1980–1981)
DESCRIPTION:The Foucault 13/13 Series examines all 13 of Foucaults' Coll
 ège de France lectures chronologically.  This installment 
 features Judith Butler and Stathis Gourgouris.\n\nRegistration
  required.\n\nNo registration necessary for livestream: http:/
 /web.law.columbia.edu/foucault1313/multimedia
END:VEVENT
END:VCALENDAR