BEGIN:VCALENDAR
VERSION:2.0
PRODID:-//ExpressionEngine Easy iCalendar plugin//NONSGML v1.1.1//EN
BEGIN:VEVENT
UID:event
LOCATION:The Heyman Center\, Second Floor Common Room
DTSTAMP:20210221T33500Z
DTSTART;TZID=America/New_York:20160310T181500
DTEND;TZID=America/New_York:
SUMMARY:Foucault 13/13: The Hermeneutics of the Subject (1981–1982
 )
DESCRIPTION:The Foucault 13/13 Series examines all 13 of Foucaults' Coll
 ège de France lectures chronologically.  This installment 
 features Rosi Braidotti\, Lydia Liu\, and Rosalind Morris.\n\nRe
 gistration required.\n\nNo registration necessary for livestre
 am: http://web.law.columbia.edu/foucault1313/multimedia
END:VEVENT
END:VCALENDAR