BEGIN:VCALENDAR
VERSION:2.0
PRODID:-//ExpressionEngine Easy iCalendar plugin//NONSGML v1.1.1//EN
BEGIN:VEVENT
UID:event
LOCATION:The Heyman Center\, Second Floor Common Room
DTSTAMP:20210221T33300Z
DTSTART;TZID=America/New_York:20160331T181500
DTEND;TZID=America/New_York:
SUMMARY:Foucault 13/13: The Government of Self and Others (1982–19
 83)
DESCRIPTION:The Foucault 13/13 Series examines all 13 of Foucaults' Coll
 ège de France lectures chronologically.  This installment 
 features Sharon Marcus\, Judith Revel\, and John Rajchman.\n\nRe
 gistration required.\n\nNo registration necessary for livestre
 am: http://web.law.columbia.edu/foucault1313/multimedia
END:VEVENT
END:VCALENDAR