BEGIN:VCALENDAR
VERSION:2.0
PRODID:-//ExpressionEngine Easy iCalendar plugin//NONSGML v1.1.1//EN
BEGIN:VEVENT
UID:event
LOCATION:Casa Hispanica
DTSTAMP:20210221T33800Z
DTSTART;TZID=America/New_York:20160414T181500
DTEND;TZID=America/New_York:
SUMMARY:Foucault 13/13: The Courage of Truth (1983-1984)
DESCRIPTION:The Foucault 13/13 Series examines all 13 of Foucaults' Coll
 ège de France lectures chronologically.  This installment 
 features Gayatri Spivak\, Frederic Gros\, and Souleymane Bachi
 r Diagne.\n\nRegistration required.\n\nNo registration necessary
  for livestream: http://web.law.columbia.edu/foucault1313/mu
 ltimedia
END:VEVENT
END:VCALENDAR