BEGIN:VCALENDAR
VERSION:2.0
PRODID:-//ExpressionEngine Easy iCalendar plugin//NONSGML v1.1.1//EN
BEGIN:VEVENT
UID:event
LOCATION:William & June Warren Hall L107\, 1125 Amsterdam Avenue New Y
 ork\, NY 10027
DTSTAMP:20210221T33200Z
DTSTART;TZID=America/New_York:20160226T170000
DTEND;TZID=America/New_York:20160226T190000
SUMMARY:Real Women\, Real Voices
DESCRIPTION:The Real Women Real Voices symposium will highlight the issu
 es and concerns that impact incarcerated women. The three-pa
 rt event will feature a video simulcast of currently incarce
 rated women\, joined by formerly incarcerated women and child
 ren of incarcerated parents discussing the impact of impriso
 nment and need for carceral policy reform. The Ladies of Hop
 e Ministries presents the Real Women Real Voices symposium a
 s a precursor to the 2016 Beyond the Bars Conference.
END:VEVENT
END:VCALENDAR