BEGIN:VCALENDAR
VERSION:2.0
PRODID:-//ExpressionEngine Easy iCalendar plugin//NONSGML v1.1.1//EN
BEGIN:VEVENT
UID:event
LOCATION:The Heyman Center\, Second Floor Common Room
DTSTAMP:20210221T33400Z
DTSTART;TZID=America/New_York:20160406T180000
DTEND;TZID=America/New_York:
SUMMARY:Miss Swan’s Bad Language: The Uses of Literacy in 1920s En
 gland
DESCRIPTION:Christopher Hillard will speak on Miss Swan's Bad Language: 
 The Uses of Literacy in 1920s England.
END:VEVENT
END:VCALENDAR