BEGIN:VCALENDAR
VERSION:2.0
PRODID:-//ExpressionEngine Easy iCalendar plugin//NONSGML v1.1.1//EN
BEGIN:VEVENT
UID:event
LOCATION:The Heyman Center\, Second Floor Common Room
DTSTAMP:20210221T33800Z
DTSTART;TZID=America/New_York:20160402T83000
DTEND;TZID=America/New_York:20160402T190000
SUMMARY:Beyond Neoliberalism: Social Justice after the Welfare State
DESCRIPTION:Registration required\; by invitation only\, please. (Contact 
 Lindsey Dayton led2134@columbia.edu)\n\nSocial Justice after t
 he Welfare State\, a workshop led by Alice Kessler-Harris and
  Premilla Nadasen in the Center for the Study of Social Diff
 erence (CSSD) at Columbia\, hosts a daylong symposium to expl
 ore the transformation of the welfare state and social movem
 ents in the face of neoliberal challenges.
END:VEVENT
END:VCALENDAR