BEGIN:VCALENDAR
VERSION:2.0
PRODID:-//ExpressionEngine Easy iCalendar plugin//NONSGML v1.1.1//EN
BEGIN:VEVENT
UID:event
LOCATION:\, Room 501 Dodge Hall
DTSTAMP:20210221T32600Z
DTSTART;TZID=America/New_York:20160302T190000
DTEND;TZID=America/New_York:
SUMMARY:A Reading by Diane Williams followed by a Q&A with Sam Lipsy
 te
DESCRIPTION:Acclaimed author Diane Williams will read from recent work\, 
 followed by a Q&A with Sam Lipsyte. The Los Angeles Times s
 ays that\, in Williams's latest book\, Fine\, Fine\, Fine\, Fine\,
  Fine\, she "is at her unconventional best."
END:VEVENT
END:VCALENDAR