BEGIN:VCALENDAR
VERSION:2.0
PRODID:-//ExpressionEngine Easy iCalendar plugin//NONSGML v1.1.1//EN
BEGIN:VEVENT
UID:event
LOCATION:Room 501\, Dodge Hall
DTSTAMP:20210221T33500Z
DTSTART;TZID=America/New_York:20160323T190000
DTEND;TZID=America/New_York:20160323T210000
SUMMARY:Poetry Reading by John Ashbery Followed by a Q&A with Timoth
 y Donnelly
DESCRIPTION:A reading by John Ashbery followed by a Q&A with Timothy Don
 nelly
END:VEVENT
END:VCALENDAR