BEGIN:VCALENDAR
VERSION:2.0
PRODID:-//ExpressionEngine Easy iCalendar plugin//NONSGML v1.1.1//EN
BEGIN:VEVENT
UID:event
LOCATION:\, Dodge 413
DTSTAMP:20210221T33700Z
DTSTART;TZID=America/New_York:20160413T190000
DTEND;TZID=America/New_York:
SUMMARY:A Conversation with Christian Hawkey
DESCRIPTION:The author of Ventrakl (inspired by the work of Georg Trakl)
  discusses the politics of experimental translation techniqu
 es in poetry. The conversation will be moderated by Directo
 r of Literary Translation at Columbia\, Susan Bernofsky.
END:VEVENT
END:VCALENDAR