BEGIN:VCALENDAR
VERSION:2.0
PRODID:-//ExpressionEngine Easy iCalendar plugin//NONSGML v1.1.1//EN
BEGIN:VEVENT
UID:event
LOCATION:Room 501\, Dodge Hall
DTSTAMP:20210221T33900Z
DTSTART;TZID=America/New_York:20160427T190000
DTEND;TZID=America/New_York:
SUMMARY:A Reading and Conversation with Bernadette Mayer
DESCRIPTION:Bernadette Mayer will be reading from her newly released Son
 nets (Tender Buttons Press\, 2015).  The conversation to fol
 low will be moderated by Dorothea Lasky.
END:VEVENT
END:VCALENDAR