BEGIN:VCALENDAR
VERSION:2.0
PRODID:-//ExpressionEngine Easy iCalendar plugin//NONSGML v1.1.1//EN
BEGIN:VEVENT
UID:event
LOCATION:Various Locations
DTSTAMP:20210221T33200Z
DTSTART;TZID=America/New_York:20160304T90000
DTEND;TZID=America/New_York:20160306T000000
SUMMARY:Beyond the Bars 2016: Connecting the Struggles
DESCRIPTION:Registration Required: https://beyondthebars2016.eventbrite
 .com\n\nThe 6th annual Beyond the Bars Conference\, "Connecting
  the Struggles\," aims to connect the many ways in which mass
  incarceration has impacted individuals\, families and commun
 ities across the U.S\, and beyond\, as well as build connectio
 ns across diverse struggles for social justice.
END:VEVENT
END:VCALENDAR