BEGIN:VCALENDAR
VERSION:2.0
PRODID:-//ExpressionEngine Easy iCalendar plugin//NONSGML v1.1.1//EN
BEGIN:VEVENT
UID:event
LOCATION:Jerome Greene Hall (Law School)\, Jerome Greene Hall\, Room 10
 4
DTSTAMP:20210221T33000Z
DTSTART;TZID=America/New_York:20160321T180000
DTEND;TZID=America/New_York:
SUMMARY:Woman and City: Wang Anyi in conversation with Lydia Liu
DESCRIPTION:Wang Anyi in conversation with Lydia Liu and Eugenia Lean.
END:VEVENT
END:VCALENDAR