BEGIN:VCALENDAR
VERSION:2.0
PRODID:-//ExpressionEngine Easy iCalendar plugin//NONSGML v1.1.1//EN
BEGIN:VEVENT
UID:event
LOCATION:Jerome Greene Hall (Law School)\, Room 101
DTSTAMP:20210221T33700Z
DTSTART;TZID=America/New_York:20160411T181500
DTEND;TZID=America/New_York:
SUMMARY:Feminism and the Abomination of Violence
DESCRIPTION:Renowned critic and author Jacqueline Rose will speak on "Fe
 minism and the Abomination of Violence."
END:VEVENT
END:VCALENDAR