BEGIN:VCALENDAR
VERSION:2.0
PRODID:-//ExpressionEngine Easy iCalendar plugin//NONSGML v1.1.1//EN
BEGIN:VEVENT
UID:event
LOCATION:The Heyman Center\, Common Room and Board Room
DTSTAMP:20210221T33800Z
DTSTART;TZID=America/New_York:20160322T100000
DTEND;TZID=America/New_York:20160419T000000
SUMMARY:Andy Sewell: Heyman Center Residency and Exhibition
DESCRIPTION:Renowned British photographer Andy Sewell exhibits his recen
 t work at the Heyman Center.  The first week of the exhibit
 ion includes a public talk\, as well as office hours and an i
 nformal discussion with faculty and students.
END:VEVENT
END:VCALENDAR