BEGIN:VCALENDAR
VERSION:2.0
PRODID:-//ExpressionEngine Easy iCalendar plugin//NONSGML v1.1.1//EN
BEGIN:VEVENT
UID:event
LOCATION:Butler Library\, Room 523
DTSTAMP:20210221T33800Z
DTSTART;TZID=America/New_York:20160422T90000
DTEND;TZID=America/New_York:20160422T170000
SUMMARY:Reading Against Time: Transhistoricism and Early Modern Lite
 rature
DESCRIPTION:Reading Against Time seeks to create a forum for scholars wo
 rking seriously across the traditional boundaries of academi
 c periodization\, featuring a keynote address by Jeff Dolven\,
  Princeton University.
END:VEVENT
END:VCALENDAR