BEGIN:VCALENDAR
VERSION:2.0
PRODID:-//ExpressionEngine Easy iCalendar plugin//NONSGML v1.1.1//EN
BEGIN:VEVENT
UID:event
LOCATION:
DTSTAMP:20210221T33000Z
DTSTART;TZID=America/New_York:20160312T120000
DTEND;TZID=America/New_York:20160312T170000
SUMMARY:THE CONFINED ARTS: Solitary Confinement Edition
DESCRIPTION:This edition of The Confined Arts will be a symposium consis
 ting of an art exhibition\, poetry\, a panel discussion\, a pro
 motional screening\, and more. Opportunities and Change will 
 be collaborating with the Campaign for Alternatives to Isola
 ted Confinement to highlight the humanity of the people held
  in solitary confinement inside of our nation’s prisons. A
 dditionally\, we hope to raise awareness about the inhumane c
 onditions and the use of solitary confinement to educate att
 endees.
END:VEVENT
END:VCALENDAR