BEGIN:VCALENDAR
VERSION:2.0
PRODID:-//ExpressionEngine Easy iCalendar plugin//NONSGML v1.1.1//EN
BEGIN:VEVENT
UID:event
LOCATION:Teatro\, Italian Academy
DTSTAMP:20210221T33700Z
DTSTART;TZID=America/New_York:20160428T160000
DTEND;TZID=America/New_York:20160428T180000
SUMMARY:Of Grammatology Re-Translated: 40th Anniversary edition: A T
 ribute
DESCRIPTION:Join us for a panel discussion marking the release of the fo
 rtieth-anniversary edition of Gayatri Chakravorty Spivak's t
 ranslation of Jacques Derrida’s Of Grammatology.
END:VEVENT
END:VCALENDAR