BEGIN:VCALENDAR
VERSION:2.0
PRODID:-//ExpressionEngine Easy iCalendar plugin//NONSGML v1.1.1//EN
BEGIN:VEVENT
UID:event
LOCATION:\, Room 208\, Knox Hall\, 606 West 122nd Street
DTSTAMP:20210221T32900Z
DTSTART;TZID=America/New_York:20160411T161500
DTEND;TZID=America/New_York:
SUMMARY:Prabhat Patnaik and Gyanendra Pandey: On Perry Anderson’s 
 India
DESCRIPTION:Prabhat Patnaik and Gyanendra Pandey speak on Perry Anderson
 's critique of Indian democracy as presented in his The Indi
 an Ideology (2012) and elsewhere.  Sudipta Kaviraj moderate
 s.
END:VEVENT
END:VCALENDAR