BEGIN:VCALENDAR
VERSION:2.0
PRODID:-//ExpressionEngine Easy iCalendar plugin//NONSGML v1.1.1//EN
BEGIN:VEVENT
UID:event
LOCATION:GK ArtsCenter 29 Jay Street\, Brooklyn\, NY 11201
DTSTAMP:20210221T33000Z
DTSTART;TZID=America/New_York:20160406T193000
DTEND;TZID=America/New_York:20160420T000000
SUMMARY:Sophocles’ Philoctetes
DESCRIPTION:The Warrior Chorus Presents\n\nSophocles' Philoctetes\n\nPerform
 ances on April 6\, 7\, 13\, and 20 at 7:30pm\n\nClick here for fu
 ll details and to purchase tickets: www.aquilatheatre.com/s
 ophocles-philoctetes-1\n\nA combat soldier is inflicted with a
 n incurable and insufferable injury. The soldier's comrades 
 cannot bear to hear the cries of pain or the sight of the wo
 und. They maroon the injured soldier and sail away.  The so
 ldier is forgotten. That is\, until ten years later\, when the
 y learn that they cannot end the war without the help of the
  wounded warrior. \n\nPhiloctetes features members of the War
 rior Chorus\, a national initiative that trains veterans to p
 resent innovative public programs based on ancient literatur
 e.
END:VEVENT
END:VCALENDAR