BEGIN:VCALENDAR
VERSION:2.0
PRODID:-//ExpressionEngine Easy iCalendar plugin//NONSGML v1.1.1//EN
BEGIN:VEVENT
UID:event
LOCATION:The Poets Den\, 309 East 108th Street
DTSTAMP:20210221T33700Z
DTSTART;TZID=America/New_York:20160514T150000
DTEND;TZID=America/New_York:20160514T190000
SUMMARY:A Woman’s Celebration
DESCRIPTION:A Woman’s Celebration is Love Thyself First’s 2nd Annual
  woman’s wellness celebration centered on self-love and me
 ntal health advocacy. 
END:VEVENT
END:VCALENDAR