BEGIN:VCALENDAR
VERSION:2.0
PRODID:-//ExpressionEngine Easy iCalendar plugin//NONSGML v1.1.1//EN
BEGIN:VEVENT
UID:event
LOCATION:The Heyman Center\, Second Floor Common Room
DTSTAMP:20210221T33700Z
DTSTART;TZID=America/New_York:20160419T181500
DTEND;TZID=America/New_York:
SUMMARY:Women’s Shebeen
DESCRIPTION:Registration required.  Click here to register.\n\nLivestream
  available here: www.ustream.tv/channel/myvTMXVM5dB \n\nNote
 d Irish women writers\, storytellers\, musicians and academics
  gather to share stories\, songs\, poems and discoveries. Pres
 ented by CualaNYC in partnership with the Heyman Center for 
 the Humanities and Irish Arts Center.\n\nThis event launches C
 ualaNYC\, New York City's first annual Irish Cultural Festiva
 l.
END:VEVENT
END:VCALENDAR