BEGIN:VCALENDAR
VERSION:2.0
PRODID:-//ExpressionEngine Easy iCalendar plugin//NONSGML v1.1.1//EN
BEGIN:VEVENT
UID:event
LOCATION:The Heyman Center\, Second Floor Common Room
DTSTAMP:20210221T33400Z
DTSTART;TZID=America/New_York:20160420T160000
DTEND;TZID=America/New_York:
SUMMARY:Hindu Nationalism and India’s New Culture Wars
DESCRIPTION:Ananya Vajpeyi speaks on "Hindu Nationalism and India’s Ne
 w Culture Wars."
END:VEVENT
END:VCALENDAR