BEGIN:VCALENDAR
VERSION:2.0
PRODID:-//ExpressionEngine Easy iCalendar plugin//NONSGML v1.1.1//EN
BEGIN:VEVENT
UID:event
LOCATION:The Heyman Center\, Second Floor Common Room
DTSTAMP:20210221T32700Z
DTSTART;TZID=America/New_York:20160503T181500
DTEND;TZID=America/New_York:
SUMMARY:Teanga Shebeen: Irish Language
DESCRIPTION:This Irish Language Shebeen includes a short presentation 
 about the history of the language\, followed by a number of s
 hort presentations in Irish Gaelic with subtitles.  Partici
 pants include: Louis De Paor\, Theo Dorgan\, Anthony Duffy\, 
 Maura Mulligan\, and Daithí MacLochlainn​.
END:VEVENT
END:VCALENDAR