BEGIN:VCALENDAR
VERSION:2.0
PRODID:-//ExpressionEngine Easy iCalendar plugin//NONSGML v1.1.1//EN
BEGIN:VEVENT
UID:event
LOCATION:The Heyman Center\, Second Floor Common Room
DTSTAMP:20210221T33500Z
DTSTART;TZID=America/New_York:20160915T181500
DTEND;TZID=America/New_York:20160915T201500
SUMMARY:A New Aesthetic Called ‘Aesthetic’
DESCRIPTION:A New Aesthetic Called 'Aesthetic': Online Frescoes\, Instagr
 am Self-Portraiture and What Digital Humanities Can Be. Conv
 ersation with Virginia Heffernan.
END:VEVENT
END:VCALENDAR