BEGIN:VCALENDAR
VERSION:2.0
PRODID:-//ExpressionEngine Easy iCalendar plugin//NONSGML v1.1.1//EN
BEGIN:VEVENT
UID:event
LOCATION:Barnard Hall\, James Room
DTSTAMP:20210221T32900Z
DTSTART;TZID=America/New_York:20160916T103000
DTEND;TZID=America/New_York:20160916T183000
SUMMARY:When Sugar Hill Was Sweet
DESCRIPTION:A Centennial Celebration of 409 and 555 Edgecombe Avenue.
END:VEVENT
END:VCALENDAR