BEGIN:VCALENDAR
VERSION:2.0
PRODID:-//ExpressionEngine Easy iCalendar plugin//NONSGML v1.1.1//EN
BEGIN:VEVENT
UID:event
LOCATION:Barnard Hall\, Sulzberger Parlor\, 3rd Floor
DTSTAMP:20210221T33600Z
DTSTART;TZID=America/New_York:20160916T130000
DTEND;TZID=America/New_York:20160916T183000
SUMMARY:What is Journal Work?
DESCRIPTION:This year\, 2016\, Small Axe turns twenty years old. And this 
 year too\, our fiftieth issue was published. We are not big o
 n celebrations\, it is true\, but to mark the occasion we are 
 organizing a roundtable conversation around the theme “Wha
 t Is Journal Work?” We have invited editors (or founders) 
 of notable journal platforms to help us think about the dist
 inctive work (in all its dimensions) of journals in intellec
 tual and artistic innovation and intervention.
END:VEVENT
END:VCALENDAR