BEGIN:VCALENDAR
VERSION:2.0
PRODID:-//ExpressionEngine Easy iCalendar plugin//NONSGML v1.1.1//EN
BEGIN:VEVENT
UID:event
LOCATION:The Heyman Center\, Second Floor Common Room
DTSTAMP:20210221T32900Z
DTSTART;TZID=America/New_York:20170223T181500
DTEND;TZID=America/New_York:
SUMMARY:Celebrating Recent Work by Josef Sorett
DESCRIPTION:Spirit in the Dark: A Religious History of Racial Aesthetic
 s \n\nby Josef Sorrett
END:VEVENT
END:VCALENDAR