BEGIN:VCALENDAR
VERSION:2.0
PRODID:-//ExpressionEngine Easy iCalendar plugin//NONSGML v1.1.1//EN
BEGIN:VEVENT
UID:event
LOCATION:\, 501 Dodge Hall
DTSTAMP:20210221T33400Z
DTSTART;TZID=America/New_York:20160919T190000
DTEND;TZID=America/New_York:
SUMMARY:Horacio Castellanos Moya: Reading and Q&A
DESCRIPTION:Reading and Q&A by Horatio Castellanos Moya.
END:VEVENT
END:VCALENDAR