BEGIN:VCALENDAR
VERSION:2.0
PRODID:-//ExpressionEngine Easy iCalendar plugin//NONSGML v1.1.1//EN
BEGIN:VEVENT
UID:event
LOCATION:Schermerhorn Hall\, 501 Schermerhorn Hall
DTSTAMP:20210221T33500Z
DTSTART;TZID=America/New_York:20160923T90000
DTEND;TZID=America/New_York:20160923T173000
SUMMARY:The New Seriality Studies
DESCRIPTION:From Charles Dickens and theÂ Star WarsÂ epic\, toÂ The Sopra
 nos\, Orange is the New Black\, and theÂ SerialÂ podcast\, seri
 alityâ€™s iteration of installments\, gaps\, sequences\, and se
 asons has drawn audiences intoÂ storyworldsÂ both vast and i
 ntimate.Â  "The NewÂ SerialityÂ Studies" looks at the past\, 
 present\, and future of serial storytelling across media\, per
 iods\, and disciplines.Â  Three panels explore periodicals\, n
 ovels\, television\, comics\, film\, and music in light of the c
 ross-genre play of serialityâ€™s formal\, spatial\, temporal\, 
 material\, and social effects. The closing roundtable\, modera
 ted byÂ Sharon MarcusÂ (Columbia)\, features discussion withÂ
  A.O. ScottÂ (film critic\,Â The New York Times)\,Â Julie Snyd
 erÂ (co-creator and executive producer\, theÂ SerialÂ podcast
 )\, andÂ Lev GrossmanÂ (book critic\,Â TIME\, and author of the
 Â MagiciansÂ trilogy).Â 
END:VEVENT
END:VCALENDAR