BEGIN:VCALENDAR
VERSION:2.0
PRODID:-//ExpressionEngine Easy iCalendar plugin//NONSGML v1.1.1//EN
BEGIN:VEVENT
UID:event
LOCATION:Jerome Greene Annex
DTSTAMP:20210221T33300Z
DTSTART;TZID=America/New_York:20160908T181500
DTEND;TZID=America/New_York:20160908T204500
SUMMARY:Nietzsche 13/13: Martin Heidegger (1/13)
DESCRIPTION:This is the first seminar in the Nietzsche 13/13 seminar ser
 ies. 1/13: Heidegger. During the years 1936 to 1939\, Martin
  Heidegger delivered a series of influential lectures on N
 ietzsche that would be published in a multi-volume book call
 ed\, simply\, Nietzsche. Despite being delivered at the time 
 of his Nazi allegiance\, the lectures nevertheless transcend 
 fascism to develop a wide-ranging interpretation of Nietzsch
 e’s philosophical contributions. They have been formative 
 in subsequent readings of Nietzsche.
END:VEVENT
END:VCALENDAR