BEGIN:VCALENDAR
VERSION:2.0
PRODID:-//ExpressionEngine Easy iCalendar plugin//NONSGML v1.1.1//EN
BEGIN:VEVENT
UID:event
LOCATION:Jerome Greene Annex
DTSTAMP:20210221T33400Z
DTSTART;TZID=America/New_York:20160922T181500
DTEND;TZID=America/New_York:20160922T204500
SUMMARY:Nietzsche 13/13: Georges Bataille (2/13)
DESCRIPTION:This is the second seminar in the Nietzsche 13/13 seminar s
 eries. 2/13: Georges Bataille.
END:VEVENT
END:VCALENDAR