BEGIN:VCALENDAR
VERSION:2.0
PRODID:-//ExpressionEngine Easy iCalendar plugin//NONSGML v1.1.1//EN
BEGIN:VEVENT
UID:event
LOCATION:\, Maison Française
DTSTAMP:20210221T32800Z
DTSTART;TZID=America/New_York:20161014T183000
DTEND;TZID=America/New_York:
SUMMARY:Filming at the Borders: The Messengers (Les Messagers)
DESCRIPTION:A special film series curated by Nora Philippe and present
 ed by the Columbia Maison Française. Co-sponsors at Colum
 bia University are the Columbia Maison Française\, Europea
 n Institute\, the European Union's Getting to Know Europe Pro
 gram\, School of the Arts\, MA in Film Studies – School of t
 he Arts\, Columbia Center for Contemporary Critical Theory\, 
 Heyman Center for the Humanities\, Alliance Program\, Institu
 te for the Study of Human Rights\, Institute of African Studi
 es\, and Columbia Global Centers – Europe. 
END:VEVENT
END:VCALENDAR