BEGIN:VCALENDAR
VERSION:2.0
PRODID:-//ExpressionEngine Easy iCalendar plugin//NONSGML v1.1.1//EN
BEGIN:VEVENT
UID:event
LOCATION:International Affairs Building\, 1512 International Affairs B
 uilding @ 118th St.
DTSTAMP:20210221T33500Z
DTSTART;TZID=America/New_York:20160923T160000
DTEND;TZID=America/New_York:
SUMMARY:The Imitation Imperative: Making Sense of the Crisis of Blac
 k Sea Europe
DESCRIPTION:Please join Columbia’s new global initiative\, Black Sea Ne
 tworks\, for its inaugural event\, a lecture with Ivan Kraste
 v. America and Europe created the post-1989 world\, yet tod
 ay they have begun to fear and even hate it. As we look bac
 k at the turbulent decades since 1989\, we are astounded by 
 the speed with which yesterday’s euphoric victory has tur
 ned into today’s anxiety and distress. Explaining why and 
 how this change occurred in different parts of the wider B
 lack Sea region (Russia\, Turkey\, Eastern Europe) is the pri
 ncipal ambition of this lecture.
END:VEVENT
END:VCALENDAR